BEGIN:VCALENDAR
PRODID:-//eluceo/ical//2.0/EN
VERSION:2.0
CALSCALE:GREGORIAN
BEGIN:VEVENT
UID:e8ad409d01e0ff37d7ff6f5646c1e71f
DTSTAMP:20260424T074406Z
SUMMARY:Gesundheitsforum Frühling 2026 - KARRIEREweg Medizin: Traumberuf 
 Ärztin
URL:https://www.insel.ch/de/aktuell/veranstaltungen/details/detail/gesundhe
 itsforum-2026-2
DTSTART;TZID=+02:00:20260428T180000
DTEND;TZID=+02:00:20260428T193000
LOCATION:Auditorium Ettore Rossi\, Freiburgstrasse 19\, Julie-von-Jenner-Ha
 us (Kinderklinik)\, 3010 Bern
END:VEVENT
END:VCALENDAR
