BEGIN:VCALENDAR
PRODID:-//eluceo/ical//2.0/EN
VERSION:2.0
CALSCALE:GREGORIAN
BEGIN:VEVENT
UID:85872907acf69870978f7b214dd72cb3
DTSTAMP:20260424T075434Z
SUMMARY:Frühkonzerte im Inselpark
URL:https://www.insel.ch/de/aktuell/veranstaltungen/details/detail/fruehkon
 zerte-im-inselpark-1-1
DTSTART;TZID=+02:00:20260429T061500
DTEND;TZID=+02:00:20260429T074500
LOCATION:Treffpunkt: Eingang C. L. Lory-Haus
END:VEVENT
END:VCALENDAR
