BEGIN:VCALENDAR
PRODID:-//eluceo/ical//2.0/EN
VERSION:2.0
CALSCALE:GREGORIAN
BEGIN:VEVENT
UID:0ba33f5226658ca4b7f761994b899490
DTSTAMP:20260422T070652Z
SUMMARY:Fortbildung Grundlagen interprofessioneller Basiskurs 2026
URL:https://www.insel.ch/de/aktuell/veranstaltungen/details/detail/fortbild
 ung-grundlagen-interprofessioneller-basiskurs-2026
DTSTART;TZID=+02:00:20260427T080000
DTEND;TZID=+02:00:20260601T175500
LOCATION:Stiftung Diaconis\, Schänzlistrasse 43\, 3013 Bern
END:VEVENT
END:VCALENDAR
