BEGIN:VCALENDAR
PRODID:-//eluceo/ical//2.0/EN
VERSION:2.0
CALSCALE:GREGORIAN
BEGIN:VEVENT
UID:44d997380dc625bc650fc5f7559d01b8
DTSTAMP:20260424T074721Z
SUMMARY:Endo-Repro Board
URL:https://www.insel.ch/de/aktuell/veranstaltungen/details/detail/endo-rep
 ro-board-6-2
DTSTART;TZID=+02:00:20260430T075000
DTEND;TZID=+02:00:20260430T081000
LOCATION:B171
END:VEVENT
END:VCALENDAR
