BEGIN:VCALENDAR
PRODID:-//eluceo/ical//2.0/EN
VERSION:2.0
CALSCALE:GREGORIAN
BEGIN:VEVENT
UID:c35ed010fa1ef7152f3aa725c332b579
DTSTAMP:20260423T073052Z
SUMMARY:ALS-Netzwerktreffen Bern am 28. April 2026
URL:https://www.insel.ch/de/aktuell/veranstaltungen/details/detail/als-netz
 werktreffen-bern-am-28-april-2026
DTSTART;TZID=+02:00:20260428T170000
DTEND;TZID=+02:00:20260428T190000
LOCATION:Mehrzweckraum Paradiso\, Wirtschaftsgebäude H\, Inselspital Bern
END:VEVENT
END:VCALENDAR
